BEGIN:VCALENDAR
PRODID:-//AT Content Types//AT Event//EN
VERSION:2.0
METHOD:PUBLISH
BEGIN:VEVENT
DTSTAMP:20260424T195906Z
CREATED:20211014T135643Z
UID:ATEvent-8d750ace9b974b2b958a9e06b6a5fe84
LAST-MODIFIED:20211119T092134Z
SUMMARY:#GMCAPledge5
DTSTART:20211021T140000Z
DTEND:20211021T160000Z
DESCRIPTION:Are you a business in Greater Manchester interested in cre
 ating opportunities for young people? Are you already providing workpl
 ace opportunities for young people but interested in learning how you 
 can do more?\n\nJoin us for our virtual event where you will be able t
 o understand the challenges facing young people\, hear how you can get
  involved and pledge your support. You’ll hear directly from the cit
 y-region’s leaders as well as a number of GM’s biggest employers o
 utlining how.
CLASS:PUBLIC
END:VEVENT
END:VCALENDAR
