BEGIN:VCALENDAR
PRODID:-//AT Content Types//AT Event//EN
VERSION:2.0
METHOD:PUBLISH
BEGIN:VEVENT
DTSTAMP:20260423T112610Z
CREATED:20181221T153507Z
UID:ATEvent-9cd7fb1b72c2979776080e3af9171627
LAST-MODIFIED:20190220T110935Z
SUMMARY:Bolton - Friends Meeting House
DTSTART:20190306T140000Z
DTEND:20190306T190000Z
DESCRIPTION:Local drop in event to discuss the Bolton specific areas o
 f the GMSF.
CLASS:PUBLIC
END:VEVENT
END:VCALENDAR
