BEGIN:VCALENDAR
PRODID:-//AT Content Types//AT Event//EN
VERSION:2.0
METHOD:PUBLISH
BEGIN:VEVENT
DTSTAMP:20260423T112038Z
CREATED:20190114T122300Z
UID:ATEvent-0012f458943bd37b7c0cfc52ebe35361
LAST-MODIFIED:20190220T110936Z
SUMMARY:Bury - Castlebrook High School
DTSTART:20190212T160000Z
DTEND:20190212T200000Z
DESCRIPTION:Local drop in event to discuss the Bury specific areas of 
 the GMSF.
CLASS:PUBLIC
END:VEVENT
END:VCALENDAR
