BEGIN:VCALENDAR
PRODID:-//AT Content Types//AT Event//EN
VERSION:2.0
METHOD:PUBLISH
BEGIN:VEVENT
DTSTAMP:20260423T112105Z
CREATED:20190114T122259Z
UID:ATEvent-1035738d4bd15d45c2e6e0fbfd1fb878
LAST-MODIFIED:20190220T110935Z
SUMMARY:Bury - Elizabethan Suite
DTSTART:20190130T120000Z
DTEND:20190130T200000Z
DESCRIPTION:Local drop in event to discuss the Bury specific areas of 
 the GMSF.
CLASS:PUBLIC
END:VEVENT
END:VCALENDAR
