BEGIN:VCALENDAR
PRODID:-//AT Content Types//AT Event//EN
VERSION:2.0
METHOD:PUBLISH
BEGIN:VEVENT
DTSTAMP:20260423T112039Z
CREATED:20190114T122259Z
UID:ATEvent-3c0168a3cd26aa605d525cb78ec8431f
LAST-MODIFIED:20190220T110935Z
SUMMARY:Bury - Elizabethan Suite
DTSTART:20190306T120000Z
DTEND:20190306T200000Z
DESCRIPTION:Local drop in event to discuss the Bury specific areas of 
 the GMSF.
CLASS:PUBLIC
END:VEVENT
END:VCALENDAR
