BEGIN:VCALENDAR
PRODID:-//AT Content Types//AT Event//EN
VERSION:2.0
METHOD:PUBLISH
BEGIN:VEVENT
DTSTAMP:20260423T112039Z
CREATED:20190114T122300Z
UID:ATEvent-593c7f03d14a9566a26ae95d4e4751db
LAST-MODIFIED:20190220T110936Z
SUMMARY:Bury - Elton High School
DTSTART:20190204T160000Z
DTEND:20190204T200000Z
DESCRIPTION:Local drop in event to discuss the Bury specific areas of 
 the GMSF.
CLASS:PUBLIC
END:VEVENT
END:VCALENDAR
