BEGIN:VCALENDAR
PRODID:-//AT Content Types//AT Event//EN
VERSION:2.0
METHOD:PUBLISH
BEGIN:VEVENT
DTSTAMP:20260423T111854Z
CREATED:20190114T122259Z
UID:ATEvent-184cb2d90ff7dcf5bc52dd460ad520a0
LAST-MODIFIED:20190220T110934Z
SUMMARY:Bury - Longfield Centre
DTSTART:20190206T140000Z
DTEND:20190206T200000Z
DESCRIPTION:Local drop in event to discuss the Bury specific areas of 
 the GMSF.
CLASS:PUBLIC
END:VEVENT
END:VCALENDAR
