BEGIN:VCALENDAR
PRODID:-//AT Content Types//AT Event//EN
VERSION:2.0
METHOD:PUBLISH
BEGIN:VEVENT
DTSTAMP:20260423T112209Z
CREATED:20190114T122259Z
UID:ATEvent-ba15b42f3c93c288504b3426cc9d961c
LAST-MODIFIED:20190220T110934Z
SUMMARY:Bury - Radcliffe Market Hall
DTSTART:20190211T140000Z
DTEND:20190211T200000Z
DESCRIPTION:Local drop in event to discuss the Bury specific areas of 
 the GMSF.
CLASS:PUBLIC
END:VEVENT
END:VCALENDAR
