BEGIN:VCALENDAR
PRODID:-//AT Content Types//AT Event//EN
VERSION:2.0
METHOD:PUBLISH
BEGIN:VEVENT
DTSTAMP:20260423T112516Z
CREATED:20190111T151715Z
UID:ATEvent-b52462387c740a1e55485142ff0404fe
LAST-MODIFIED:20190220T110934Z
SUMMARY:Trafford - Sale West Youth Centre
DTSTART:20190219T160000Z
DTEND:20190219T190000Z
DESCRIPTION:Local drop in event to discuss the Trafford specific areas
  of the GMSF.
CLASS:PUBLIC
END:VEVENT
END:VCALENDAR
