BEGIN:VCALENDAR
PRODID:-//AT Content Types//AT Event//EN
VERSION:2.0
METHOD:PUBLISH
BEGIN:VEVENT
DTSTAMP:20260423T111839Z
CREATED:20190115T143028Z
UID:ATEvent-b72f06be838d11e79d71d7f27b484cf0
LAST-MODIFIED:20190220T110935Z
SUMMARY:Manchester - Central Library
DTSTART:20190226T150000Z
DTEND:20190226T194500Z
DESCRIPTION:Local drop in event to discuss the Manchester specific are
 as of the GMSF.
CLASS:PUBLIC
END:VEVENT
END:VCALENDAR
