BEGIN:VCALENDAR
PRODID:-//AT Content Types//AT Event//EN
VERSION:2.0
METHOD:PUBLISH
BEGIN:VEVENT
DTSTAMP:20260423T112057Z
CREATED:20190115T143028Z
UID:ATEvent-b5da6577b149a1eb7ac09c0a89380b2c
LAST-MODIFIED:20190220T110934Z
SUMMARY:Manchester - Wythenshawe Forum
DTSTART:20190227T160000Z
DTEND:20190227T200000Z
DESCRIPTION:Local drop in event to discuss the Manchester specific are
 as of the GMSF.
CLASS:PUBLIC
END:VEVENT
END:VCALENDAR
