BEGIN:VCALENDAR
PRODID:-//AT Content Types//AT Event//EN
VERSION:2.0
METHOD:PUBLISH
BEGIN:VEVENT
DTSTAMP:20260423T111848Z
CREATED:20190123T130927Z
UID:ATEvent-5080fe815bf148267bbdda06a3995c96
LAST-MODIFIED:20190220T110934Z
SUMMARY:Oldham - Civic Centre
DTSTART:20190226T110000Z
DTEND:20190226T190000Z
DESCRIPTION:Local drop in event to discuss the Oldham specific areas o
 f the GMSF.\n\nAfternoon session: 11am until 2pm \n\nEvening session: 
 4pm until 7pm
CLASS:PUBLIC
END:VEVENT
END:VCALENDAR
