BEGIN:VCALENDAR
PRODID:-//AT Content Types//AT Event//EN
VERSION:2.0
METHOD:PUBLISH
BEGIN:VEVENT
DTSTAMP:20260423T111855Z
CREATED:20190123T130929Z
UID:ATEvent-60ddbab40d8df3577b89daecb058766d
LAST-MODIFIED:20190220T110934Z
SUMMARY:Oldham - Crompton Primary School
DTSTART:20190128T160000Z
DTEND:20190128T193000Z
DESCRIPTION:Local drop in event to discuss the Oldham specific areas o
 f the GMSF.
CLASS:PUBLIC
END:VEVENT
END:VCALENDAR
