BEGIN:VCALENDAR
PRODID:-//AT Content Types//AT Event//EN
VERSION:2.0
METHOD:PUBLISH
BEGIN:VEVENT
DTSTAMP:20260423T112202Z
CREATED:20190123T130928Z
UID:ATEvent-975d6cc8712103f07f1ecc8327c8884d
LAST-MODIFIED:20190220T110935Z
SUMMARY:Oldham - East Oldham Methodist Church
DTSTART:20190212T153000Z
DTEND:20190212T193000Z
DESCRIPTION:Local drop in event to discuss the Oldham specific areas o
 f the GMSF.
CLASS:PUBLIC
END:VEVENT
END:VCALENDAR
