BEGIN:VCALENDAR
PRODID:-//AT Content Types//AT Event//EN
VERSION:2.0
METHOD:PUBLISH
BEGIN:VEVENT
DTSTAMP:20260423T112255Z
CREATED:20190123T130929Z
UID:ATEvent-6f132e0f7f836d90ac798653fcf3131e
LAST-MODIFIED:20190220T110935Z
SUMMARY:Oldham - Heyside Cricket Club
DTSTART:20190219T153000Z
DTEND:20190219T193000Z
DESCRIPTION:Local drop in event to discuss the Oldham specific areas o
 f the GMSF.
CLASS:PUBLIC
END:VEVENT
END:VCALENDAR
