BEGIN:VCALENDAR
PRODID:-//AT Content Types//AT Event//EN
VERSION:2.0
METHOD:PUBLISH
BEGIN:VEVENT
DTSTAMP:20260423T111936Z
CREATED:20190123T130929Z
UID:ATEvent-dbcd528cf3c8a061ccec41754b312d7b
LAST-MODIFIED:20190220T110934Z
SUMMARY:Oldham - Shaw Lifelong Learning Centre
DTSTART:20190131T150000Z
DTEND:20190131T190000Z
DESCRIPTION:Local drop in event to discuss the Oldham specific areas o
 f the GMSF.
CLASS:PUBLIC
END:VEVENT
END:VCALENDAR
