BEGIN:VCALENDAR
PRODID:-//AT Content Types//AT Event//EN
VERSION:2.0
METHOD:PUBLISH
BEGIN:VEVENT
DTSTAMP:20260423T111847Z
CREATED:20190123T130928Z
UID:ATEvent-e4b55929457b3db5156ccb098dad7dc7
LAST-MODIFIED:20190220T110935Z
SUMMARY:Oldham - Sholver Community Centre
DTSTART:20190206T170000Z
DTEND:20190206T190000Z
DESCRIPTION:Local drop in event to discuss the Oldham specific areas o
 f the GMSF.
CLASS:PUBLIC
END:VEVENT
END:VCALENDAR
