BEGIN:VCALENDAR
PRODID:-//AT Content Types//AT Event//EN
VERSION:2.0
METHOD:PUBLISH
BEGIN:VEVENT
DTSTAMP:20260423T112105Z
CREATED:20190123T130928Z
UID:ATEvent-51774ffe2da72d7a388247787e5e5d66
LAST-MODIFIED:20190220T110935Z
SUMMARY:Oldham - St Matthews Primary School
DTSTART:20190213T160000Z
DTEND:20190213T193000Z
DESCRIPTION:Local drop in event to discuss the Oldham specific areas o
 f the GMSF.
CLASS:PUBLIC
END:VEVENT
END:VCALENDAR
