BEGIN:VCALENDAR
PRODID:-//AT Content Types//AT Event//EN
VERSION:2.0
METHOD:PUBLISH
BEGIN:VEVENT
DTSTAMP:20260423T112254Z
CREATED:20190123T130928Z
UID:ATEvent-7ae0ae523bf7fb1607f874378ad92be8
LAST-MODIFIED:20190220T110934Z
SUMMARY:Oldham - Thornham St James Primary School
DTSTART:20190207T160000Z
DTEND:20190207T194500Z
DESCRIPTION:Local drop in event to discuss the Oldham specific areas o
 f the GMSF.
CLASS:PUBLIC
END:VEVENT
END:VCALENDAR
