BEGIN:VCALENDAR
PRODID:-//AT Content Types//AT Event//EN
VERSION:2.0
METHOD:PUBLISH
BEGIN:VEVENT
DTSTAMP:20260423T112419Z
CREATED:20190123T130929Z
UID:ATEvent-0174dd31166ba8a218bb9bdf55a8ad18
LAST-MODIFIED:20190220T110934Z
SUMMARY:Oldham - Woodhouses Primary School
DTSTART:20190204T183000Z
DTEND:20190204T213000Z
DESCRIPTION:Local drop in event to discuss the Oldham specific areas o
 f the GMSF.
CLASS:PUBLIC
END:VEVENT
END:VCALENDAR
