BEGIN:VCALENDAR
PRODID:-//AT Content Types//AT Event//EN
VERSION:2.0
METHOD:PUBLISH
BEGIN:VEVENT
DTSTAMP:20260423T112254Z
CREATED:20181218T125928Z
UID:ATEvent-8a18b719063f4ac929fdaf68d32713b0
LAST-MODIFIED:20190220T110936Z
SUMMARY:Question Time in Tameside with the Mayor of Greater Manchester
DTSTART:20190123T193000Z
DTEND:20190123T210000Z
DESCRIPTION:Monthly Question Time event to discuss a range of topics\,
  including GMSF.
CLASS:PUBLIC
END:VEVENT
END:VCALENDAR
