BEGIN:VCALENDAR
PRODID:-//AT Content Types//AT Event//EN
VERSION:2.0
METHOD:PUBLISH
BEGIN:VEVENT
DTSTAMP:20260423T112521Z
CREATED:20181218T125928Z
UID:ATEvent-67a93a5c90e437b2080fe483ba994666
LAST-MODIFIED:20190220T110935Z
SUMMARY:Question Time in Wigan with the Mayor of Greater Manchester
DTSTART:20190226T193000Z
DTEND:20190226T210000Z
DESCRIPTION:Monthly Question Time event to discuss a range of topics\,
  including GMSF.
CLASS:PUBLIC
END:VEVENT
END:VCALENDAR
