BEGIN:VCALENDAR
PRODID:-//AT Content Types//AT Event//EN
VERSION:2.0
METHOD:PUBLISH
BEGIN:VEVENT
DTSTAMP:20260423T112105Z
CREATED:20190122T085549Z
UID:ATEvent-2456de8807fd95ddbcb404bd2e0a66a1
LAST-MODIFIED:20190220T110934Z
SUMMARY:Rochdale - Hare Hill House
DTSTART:20190207T160000Z
DTEND:20190207T190000Z
DESCRIPTION:Local drop in event to discuss the Rochdale specific areas
  of the GMSF.
CLASS:PUBLIC
END:VEVENT
END:VCALENDAR
