BEGIN:VCALENDAR
PRODID:-//AT Content Types//AT Event//EN
VERSION:2.0
METHOD:PUBLISH
BEGIN:VEVENT
DTSTAMP:20260423T112351Z
CREATED:20190122T085549Z
UID:ATEvent-8cad5f7637196c4414896c315978818a
LAST-MODIFIED:20190220T110934Z
SUMMARY:Rochdale - Middleton Arena (Partnered with Oldham)
DTSTART:20190211T160000Z
DTEND:20190211T190000Z
DESCRIPTION:Local drop in event to discuss the Rochdale and Oldham spe
 cific areas of the GMSF.
CLASS:PUBLIC
END:VEVENT
END:VCALENDAR
