BEGIN:VCALENDAR
PRODID:-//AT Content Types//AT Event//EN
VERSION:2.0
METHOD:PUBLISH
BEGIN:VEVENT
DTSTAMP:20260423T111855Z
CREATED:20190122T085549Z
UID:ATEvent-3defe537965334f439b15bba12b22140
LAST-MODIFIED:20190220T110934Z
SUMMARY:Rochdale - Phoenix Centre
DTSTART:20190205T160000Z
DTEND:20190205T190000Z
DESCRIPTION:Local drop in event to discuss the Rochdale specific areas
  of the GMSF.
CLASS:PUBLIC
END:VEVENT
END:VCALENDAR
