BEGIN:VCALENDAR
PRODID:-//AT Content Types//AT Event//EN
VERSION:2.0
METHOD:PUBLISH
BEGIN:VEVENT
DTSTAMP:20260423T112016Z
CREATED:20190122T085549Z
UID:ATEvent-1a89979fc4a19aac59e16f381a6828f7
LAST-MODIFIED:20190220T110935Z
SUMMARY:Rochdale - Town Hall
DTSTART:20190204T160000Z
DTEND:20190204T190000Z
DESCRIPTION:Local drop in event to discuss the Rochdale specific areas
  of the GMSF.
CLASS:PUBLIC
END:VEVENT
END:VCALENDAR
