BEGIN:VCALENDAR
PRODID:-//AT Content Types//AT Event//EN
VERSION:2.0
METHOD:PUBLISH
BEGIN:VEVENT
DTSTAMP:20260423T111848Z
CREATED:20190111T151715Z
UID:ATEvent-c070ec4c233964bb5de50f0ea47ca1dd
LAST-MODIFIED:20190220T110936Z
SUMMARY:Trafford - Sale Library
DTSTART:20190218T153000Z
DTEND:20190218T183000Z
DESCRIPTION:Local drop in event to discuss the Trafford specific areas
  of the GMSF
CLASS:PUBLIC
END:VEVENT
END:VCALENDAR
