BEGIN:VCALENDAR
PRODID:-//AT Content Types//AT Event//EN
VERSION:2.0
METHOD:PUBLISH
BEGIN:VEVENT
DTSTAMP:20260423T112506Z
CREATED:20190115T142147Z
UID:ATEvent-110467a721a0f7cb1d2ae3c760f06beb
LAST-MODIFIED:20190220T110935Z
SUMMARY:Salford - Irlam and Cadishead College
DTSTART:20190121T183000Z
DTEND:20190121T203000Z
DESCRIPTION:A public meeting with a presentation on the proposals for 
 the local area followed by the opportunity to ask questions.
CLASS:PUBLIC
END:VEVENT
END:VCALENDAR
