BEGIN:VCALENDAR
PRODID:-//AT Content Types//AT Event//EN
VERSION:2.0
METHOD:PUBLISH
BEGIN:VEVENT
DTSTAMP:20260423T112351Z
CREATED:20190115T142146Z
UID:ATEvent-6b3f2e7be6f13e9d912b1dcf7a0d04ce
LAST-MODIFIED:20190220T110935Z
SUMMARY:Salford - Salford Civic Centre
DTSTART:20190211T150000Z
DTEND:20190211T200000Z
DESCRIPTION:Local drop in event to discuss the Salford specific areas 
 of the GMSF.
CLASS:PUBLIC
END:VEVENT
END:VCALENDAR
