BEGIN:VCALENDAR
PRODID:-//AT Content Types//AT Event//EN
VERSION:2.0
METHOD:PUBLISH
BEGIN:VEVENT
DTSTAMP:20260423T112515Z
CREATED:20190130T162409Z
UID:ATEvent-bf7134a675ce4fb2a65afa8069f6124c
LAST-MODIFIED:20190220T110935Z
SUMMARY:Stockport - At the Kitchen\, 5 Warren Road\, \, Cheadle Hulme\, Cheadle\, SK8 5AA
DTSTART:20190216T093000Z
DTEND:20190216T130000Z
DESCRIPTION:Local drop in event to discuss the Stockport specific area
 s of the GMSF.
CLASS:PUBLIC
END:VEVENT
END:VCALENDAR
