BEGIN:VCALENDAR
PRODID:-//AT Content Types//AT Event//EN
VERSION:2.0
METHOD:PUBLISH
BEGIN:VEVENT
DTSTAMP:20260423T112507Z
CREATED:20190130T162410Z
UID:ATEvent-a776661f822f4269b4a2b1c519ab6dbb
LAST-MODIFIED:20190220T110934Z
SUMMARY:Stockport - Christ Church Hall\, 98 Finney Lane\, Heald Green\, Cheadle\, Stockport\, SK8 3DY
DTSTART:20190212T140000Z
DTEND:20190212T170000Z
DESCRIPTION:Local drop in event to discuss the Stockport specific area
 s of the GMSF.
CLASS:PUBLIC
END:VEVENT
END:VCALENDAR
