BEGIN:VCALENDAR
PRODID:-//AT Content Types//AT Event//EN
VERSION:2.0
METHOD:PUBLISH
BEGIN:VEVENT
DTSTAMP:20260423T112521Z
CREATED:20190130T162409Z
UID:ATEvent-70de6294078f44b7a2c1589005bfe99e
LAST-MODIFIED:20190220T110936Z
SUMMARY:Stockport - High Lane Village Hall\, Windlehurst Road\, High Lane\, Stockport\, SK6 8AB
DTSTART:20190226T130000Z
DTEND:20190226T170000Z
DESCRIPTION:Local drop in event to discuss the Stockport specific area
 s of the GMSF.
CLASS:PUBLIC
END:VEVENT
END:VCALENDAR
