BEGIN:VCALENDAR
PRODID:-//AT Content Types//AT Event//EN
VERSION:2.0
METHOD:PUBLISH
BEGIN:VEVENT
DTSTAMP:20260423T112404Z
CREATED:20190130T162409Z
UID:ATEvent-b7114c13f8de416ba8522755f90b89b6
LAST-MODIFIED:20190220T110935Z
SUMMARY:Stockport - Offerton Community Centre\, Mallowdale Road\, Offerton\, Stockport\, SK2 5NX
DTSTART:20190219T180000Z
DTEND:20190219T203000Z
DESCRIPTION:Local drop in event to discuss the Stockport specific area
 s of the GMSF.
CLASS:PUBLIC
END:VEVENT
END:VCALENDAR
