BEGIN:VCALENDAR
PRODID:-//AT Content Types//AT Event//EN
VERSION:2.0
METHOD:PUBLISH
BEGIN:VEVENT
DTSTAMP:20260423T112228Z
CREATED:20190130T162410Z
UID:ATEvent-32fe9f159e3c4876aae8ccc80da565ff
LAST-MODIFIED:20190220T110934Z
SUMMARY:Stockport - Romiley Primary School\, \, Sandy Lane\, Romiley\, Stockport\, SK6 4NE
DTSTART:20190305T180000Z
DTEND:20190305T203000Z
DESCRIPTION:Local drop in event to discuss the Stockport specific area
 s of the GMSF.
CLASS:PUBLIC
END:VEVENT
END:VCALENDAR
