BEGIN:VCALENDAR
PRODID:-//AT Content Types//AT Event//EN
VERSION:2.0
METHOD:PUBLISH
BEGIN:VEVENT
DTSTAMP:20260423T112516Z
CREATED:20190130T162409Z
UID:ATEvent-08eaec41c6de44b58bd86c5080e53e43
LAST-MODIFIED:20190220T110935Z
SUMMARY:Stockport - Woodford Community Centre\, Chester Road\, Woodford\, Stockport\, SK7 1PS
DTSTART:20190304T163000Z
DTEND:20190304T203000Z
DESCRIPTION:Local drop in event to discuss the Stockport specific area
 s of the GMSF.
CLASS:PUBLIC
END:VEVENT
END:VCALENDAR
