BEGIN:VCALENDAR
PRODID:-//AT Content Types//AT Event//EN
VERSION:2.0
METHOD:PUBLISH
BEGIN:VEVENT
DTSTAMP:20260423T112506Z
CREATED:20190130T162410Z
UID:ATEvent-4cab38679c2347138b5ea376049efc48
LAST-MODIFIED:20190220T110935Z
SUMMARY:Stockport - Woodley Civic Hall\, Hyde Road\, Woodley\, Stockport\, SK6 1QG
DTSTART:20190307T170000Z
DTEND:20190307T203000Z
DESCRIPTION:Local drop in event to discuss the Stockport specific area
 s of the GMSF.
CLASS:PUBLIC
END:VEVENT
END:VCALENDAR
