BEGIN:VCALENDAR
PRODID:-//AT Content Types//AT Event//EN
VERSION:2.0
METHOD:PUBLISH
BEGIN:VEVENT
DTSTAMP:20260423T111839Z
CREATED:20190111T151715Z
UID:ATEvent-11035519dc367e9d1fc71d7948fc732e
LAST-MODIFIED:20190220T110934Z
SUMMARY:Trafford - Stretford Library
DTSTART:20190211T160000Z
DTEND:20190211T190000Z
DESCRIPTION:Local drop in event to discuss the Trafford specific areas
  of the GMSF.
CLASS:PUBLIC
END:VEVENT
END:VCALENDAR
