BEGIN:VCALENDAR
PRODID:-//AT Content Types//AT Event//EN
VERSION:2.0
METHOD:PUBLISH
BEGIN:VEVENT
DTSTAMP:20260423T111839Z
CREATED:20190201T133031Z
UID:ATEvent-7dd1153e16ff46e692a76395084a5353
LAST-MODIFIED:20190220T110935Z
SUMMARY:Tameside - Central Library
DTSTART:20190131T150000Z
DTEND:20190131T190000Z
DESCRIPTION:Local drop in event to discuss the Tameside specific areas
  of the GMSF.
CLASS:PUBLIC
END:VEVENT
END:VCALENDAR
