BEGIN:VCALENDAR
PRODID:-//AT Content Types//AT Event//EN
VERSION:2.0
METHOD:PUBLISH
BEGIN:VEVENT
DTSTAMP:20260423T112358Z
CREATED:20190201T133830Z
UID:ATEvent-ed04020afff04780a61f5c345ff60168
LAST-MODIFIED:20190220T110934Z
SUMMARY:Tameside - Denton Festival Hall
DTSTART:20190219T150000Z
DTEND:20190219T190000Z
DESCRIPTION:Local drop in event to discuss the Tameside specific areas
  of the GMSF.
CLASS:PUBLIC
END:VEVENT
END:VCALENDAR
