BEGIN:VCALENDAR
PRODID:-//AT Content Types//AT Event//EN
VERSION:2.0
METHOD:PUBLISH
BEGIN:VEVENT
DTSTAMP:20260423T112228Z
CREATED:20190205T120426Z
UID:ATEvent-56d9912eec8740628e27675f99dce700
LAST-MODIFIED:20190220T110934Z
SUMMARY:Tameside - Dukinfield Town Hall
DTSTART:20190212T150000Z
DTEND:20190212T190000Z
DESCRIPTION:Local drop in event to discuss the Tameside specific areas
  of the GMSF.
CLASS:PUBLIC
END:VEVENT
END:VCALENDAR
