BEGIN:VCALENDAR
PRODID:-//AT Content Types//AT Event//EN
VERSION:2.0
METHOD:PUBLISH
BEGIN:VEVENT
DTSTAMP:20260423T112228Z
CREATED:20190201T133830Z
UID:ATEvent-2aa520db018946fbbd288a636a97f392
LAST-MODIFIED:20190220T110935Z
SUMMARY:Tameside - George Lawton Hall
DTSTART:20190228T150000Z
DTEND:20190228T190000Z
DESCRIPTION:Local drop in event to discuss the Tameside specific areas
  of the GMSF.
CLASS:PUBLIC
END:VEVENT
END:VCALENDAR
