BEGIN:VCALENDAR
PRODID:-//AT Content Types//AT Event//EN
VERSION:2.0
METHOD:PUBLISH
BEGIN:VEVENT
DTSTAMP:20260423T112351Z
CREATED:20190201T133830Z
UID:ATEvent-b2acf4ce33c54541846f7cc7a30c401c
LAST-MODIFIED:20190220T110936Z
SUMMARY:Tameside - Guardsman Tony Downes House
DTSTART:20190214T150000Z
DTEND:20190214T190000Z
DESCRIPTION:Local drop in event to discuss the Tameside specific areas
  of the GMSF.
CLASS:PUBLIC
END:VEVENT
END:VCALENDAR
