BEGIN:VCALENDAR
PRODID:-//AT Content Types//AT Event//EN
VERSION:2.0
METHOD:PUBLISH
BEGIN:VEVENT
DTSTAMP:20260423T111936Z
CREATED:20190201T133830Z
UID:ATEvent-3701bf6ea8204fddab0a73db1059fc62
LAST-MODIFIED:20190220T110936Z
SUMMARY:Tameside - Hyde Town Hall
DTSTART:20190227T150000Z
DTEND:20190227T190000Z
DESCRIPTION:Local drop in event to discuss the Tameside specific areas
  of the GMSF.
CLASS:PUBLIC
END:VEVENT
END:VCALENDAR
