BEGIN:VCALENDAR
PRODID:-//AT Content Types//AT Event//EN
VERSION:2.0
METHOD:PUBLISH
BEGIN:VEVENT
DTSTAMP:20260423T112017Z
CREATED:20190201T133831Z
UID:ATEvent-e03d53bcff09432db63dcab9e8a3dcd4
LAST-MODIFIED:20190220T110935Z
SUMMARY:Tameside - Ryecroft Hall
DTSTART:20190208T140000Z
DTEND:20190208T170000Z
DESCRIPTION:Local drop in event to discuss the Tameside specific areas
  of the GMSF.
CLASS:PUBLIC
END:VEVENT
END:VCALENDAR
