BEGIN:VCALENDAR
PRODID:-//AT Content Types//AT Event//EN
VERSION:2.0
METHOD:PUBLISH
BEGIN:VEVENT
DTSTAMP:20260423T112210Z
CREATED:20190201T133830Z
UID:ATEvent-1c6c0041a98a4f9f86f179808d8a63fb
LAST-MODIFIED:20190220T110934Z
SUMMARY:Tameside - Stalybridge Town Hall
DTSTART:20190220T150000Z
DTEND:20190220T190000Z
DESCRIPTION:Local drop in event to discuss the Tameside specific areas
  of the GMSF.
CLASS:PUBLIC
END:VEVENT
END:VCALENDAR
