BEGIN:VCALENDAR
PRODID:-//AT Content Types//AT Event//EN
VERSION:2.0
METHOD:PUBLISH
BEGIN:VEVENT
DTSTAMP:20260423T112055Z
CREATED:20190205T120046Z
UID:ATEvent-3ef8f9e57ddb4f04b9d7c0b3ee5eff7e
LAST-MODIFIED:20190220T110934Z
SUMMARY:Tameside - The Hub\, Hattersley
DTSTART:20190205T150000Z
DTEND:20190205T190000Z
DESCRIPTION:Local drop in event to discuss the Tameside specific areas
  of the GMSF.
CLASS:PUBLIC
END:VEVENT
END:VCALENDAR
