BEGIN:VCALENDAR
PRODID:-//AT Content Types//AT Event//EN
VERSION:2.0
METHOD:PUBLISH
BEGIN:VEVENT
DTSTAMP:20260423T112419Z
CREATED:20190111T151715Z
UID:ATEvent-4bb875ec90d2c636a06b2540756667e5
LAST-MODIFIED:20190220T110935Z
SUMMARY:Trafford -  All Saints Church Hall\, Hale Barns
DTSTART:20190205T160000Z
DTEND:20190205T190000Z
DESCRIPTION:Local drop in event to discuss the Trafford specific areas
  of the GMSF.
CLASS:PUBLIC
END:VEVENT
END:VCALENDAR
