BEGIN:VCALENDAR
PRODID:-//AT Content Types//AT Event//EN
VERSION:2.0
METHOD:PUBLISH
BEGIN:VEVENT
DTSTAMP:20260423T112203Z
CREATED:20190111T165831Z
UID:ATEvent-141f695e6888ad127c86cc36300dadf5
LAST-MODIFIED:20190220T110935Z
SUMMARY:Wigan - Atherton Community School
DTSTART:20190211T170000Z
DTEND:20190211T200000Z
DESCRIPTION:Local drop in event to discuss the Wigan specific areas of
  the GMSF.
CLASS:PUBLIC
END:VEVENT
END:VCALENDAR
