BEGIN:VCALENDAR
PRODID:-//AT Content Types//AT Event//EN
VERSION:2.0
METHOD:PUBLISH
BEGIN:VEVENT
DTSTAMP:20260423T112404Z
CREATED:20190111T165832Z
UID:ATEvent-ad84cd4278efd4bbaae6a161cddf0ceb
LAST-MODIFIED:20190220T110935Z
SUMMARY:Wigan - Highfield Grange Community Centre
DTSTART:20190208T160000Z
DTEND:20190208T193000Z
DESCRIPTION:Local drop in event to discuss the Wigan specific areas of
  the GMSF.
CLASS:PUBLIC
END:VEVENT
END:VCALENDAR
