BEGIN:VCALENDAR
PRODID:-//AT Content Types//AT Event//EN
VERSION:2.0
METHOD:PUBLISH
BEGIN:VEVENT
DTSTAMP:20260423T112358Z
CREATED:20190111T165831Z
UID:ATEvent-5ec5c3fb8dc63a1afa176b41fd66c03d
LAST-MODIFIED:20190220T110935Z
SUMMARY:Wigan - Lowton C of E High School
DTSTART:20190214T160000Z
DTEND:20190214T193000Z
DESCRIPTION:Local drop in event to discuss the Wigan specific areas of
  the GMSF.
CLASS:PUBLIC
END:VEVENT
END:VCALENDAR
